BEGIN:VCALENDAR
VERSION:2.0
PRODID:-//Flagstaff Symphony Orchestra - ECPv6.13.2.1//NONSGML v1.0//EN
CALSCALE:GREGORIAN
METHOD:PUBLISH
X-ORIGINAL-URL:https://www.flagstaffsymphony.org
X-WR-CALDESC:Events for Flagstaff Symphony Orchestra
REFRESH-INTERVAL;VALUE=DURATION:PT1H
X-Robots-Tag:noindex
X-PUBLISHED-TTL:PT1H
BEGIN:VTIMEZONE
TZID:UTC
BEGIN:STANDARD
TZOFFSETFROM:+0000
TZOFFSETTO:+0000
TZNAME:UTC
DTSTART:20220101T000000
END:STANDARD
END:VTIMEZONE
BEGIN:VEVENT
DTSTART;TZID=UTC:20220704T150000
DTEND;TZID=UTC:20220704T170000
DTSTAMP:20260423T192208
CREATED:20210605T192839Z
LAST-MODIFIED:20220627T143321Z
UID:18165-1656946800-1656954000@www.flagstaffsymphony.org
SUMMARY:A Flag Fourth
DESCRIPTION:This is a free non-ticketed event. \nThe Flagstaff Symphony Orchestra is back on the lawn at Pepsi Amphitheater for our annual Flag Fourth concert! This family-friendly patriotic pops concert is perfect for all ages\, free of charge\, and open to the public. Bring your lawn chairs\, blankets\, and sunscreen and join us for the perfect Flagstaff Independence Day celebration with live music. \nDoors open at 2pm and the show starts at 3pm!
URL:https://www.flagstaffsymphony.org/event/a-flag-fourth/
LOCATION:Pepsi Amphitheater at Fort Tuthill Park\, 2446 Fort Tuthill Loop\, Flagstaff\, AZ\, 86005\, United States
CATEGORIES:Concerts and Events
ATTACH;FMTTYPE=image/jpeg:https://www.flagstaffsymphony.org/wp-content/uploads/2021/06/a-flag-fourth-concept-22.jpg
END:VEVENT
END:VCALENDAR