BEGIN:VCALENDAR
VERSION:2.0
PRODID:-//Flagstaff Symphony Orchestra - ECPv6.13.2.1//NONSGML v1.0//EN
CALSCALE:GREGORIAN
METHOD:PUBLISH
X-ORIGINAL-URL:https://www.flagstaffsymphony.org
X-WR-CALDESC:Events for Flagstaff Symphony Orchestra
REFRESH-INTERVAL;VALUE=DURATION:PT1H
X-Robots-Tag:noindex
X-PUBLISHED-TTL:PT1H
BEGIN:VTIMEZONE
TZID:UTC
BEGIN:STANDARD
TZOFFSETFROM:+0000
TZOFFSETTO:+0000
TZNAME:UTC
DTSTART:20220101T000000
END:STANDARD
END:VTIMEZONE
BEGIN:VEVENT
DTSTART;TZID=UTC:20220813T150000
DTEND;TZID=UTC:20220813T170000
DTSTAMP:20260423T192209
CREATED:20220405T163551Z
LAST-MODIFIED:20220519T195828Z
UID:22264-1660402800-1660410000@www.flagstaffsymphony.org
SUMMARY:Family Pops Concert
DESCRIPTION:Your kids will love FSO’s Family Pops Concert: Musical Animals on Saturday\, August 13! This festive outdoor event includes a program of exciting animal-themed music\, face-painting\, and an instrument “petting zoo” where they can pick up an instrument\, learn how to hold it\, and even try playing it! \nPepsi Amphitheater\nGates open at 2pm for a start time of 3pm.\nAdult tickets $15-30; Children 12 and under are free with the purchase of an adult ticket.\nCLICK HERE FOR TICKETS
URL:https://www.flagstaffsymphony.org/event/family-pops-concert-2022/
LOCATION:Pepsi Amphitheater at Fort Tuthill Park\, 2446 Fort Tuthill Loop\, Flagstaff\, AZ\, 86005\, United States
ATTACH;FMTTYPE=image/jpeg:https://www.flagstaffsymphony.org/wp-content/uploads/2022/04/family-pops-22-concept.jpg
END:VEVENT
END:VCALENDAR