BEGIN:VCALENDAR
VERSION:2.0
PRODID:-//Flagstaff Symphony Orchestra - ECPv6.13.2.1//NONSGML v1.0//EN
CALSCALE:GREGORIAN
METHOD:PUBLISH
X-ORIGINAL-URL:https://www.flagstaffsymphony.org
X-WR-CALDESC:Events for Flagstaff Symphony Orchestra
REFRESH-INTERVAL;VALUE=DURATION:PT1H
X-Robots-Tag:noindex
X-PUBLISHED-TTL:PT1H
BEGIN:VTIMEZONE
TZID:UTC
BEGIN:STANDARD
TZOFFSETFROM:+0000
TZOFFSETTO:+0000
TZNAME:UTC
DTSTART:20220101T000000
END:STANDARD
END:VTIMEZONE
BEGIN:VEVENT
DTSTART;TZID=UTC:20220930T193000
DTEND;TZID=UTC:20220930T210000
DTSTAMP:20260423T192238
CREATED:20220718T161343Z
LAST-MODIFIED:20220826T175546Z
UID:24237-1664566200-1664571600@www.flagstaffsymphony.org
SUMMARY:Brahms\, Barber\, and Biegel
DESCRIPTION:Friday\, September 30th kicks off Season 73 with the first of our Masterworks Series: Brahms\, Barber\, and Biegel. Buckle in and prepare to blast off with FSO on a journey through outer space! As a special tie-in to the Flagstaff Festival of Science\, we are proud to present Daniel Perttu’s “A Planets Odyssey.” \n In this piano concerto\, guest artist Jeffrey Biegel will take you on a voyage through our solar system that explores the unique properties and characteristics of each planet. You’ll also experience the vibrant intensity of Samuel Barber’s Second Essay for Orchestra and the romantic fire and energy of Brahms’s Fourth Symphony in this season’s opening concert. \nSeason subscriptions can be purchased through the Central Ticket Office at Northern Arizona University by calling (928) 523-5661. Single tickets are on sale now! \n[nectar_btn size=”large” button_style=”regular” button_color_2=”Extra-Color-2″ color_override=”#747FBD” icon_family=”none” el_class=”gtrack” text=”Get Tickets” url=”https://events.nau.edu/event/brahms-barber-and-biegel/”]\n 
URL:https://www.flagstaffsymphony.org/event/brahms-barber-and-biegel/
LOCATION:NAU Ardrey Memorial Auditorium\, 1115 S Knoles Dr\, Flagstaff\, AZ\, 86011\, United States
CATEGORIES:Concerts and Events
ATTACH;FMTTYPE=image/png:https://www.flagstaffsymphony.org/wp-content/uploads/2022/07/1-5.png
END:VEVENT
END:VCALENDAR