BEGIN:VCALENDAR
VERSION:2.0
PRODID:-//Flagstaff Symphony Orchestra - ECPv6.13.2.1//NONSGML v1.0//EN
CALSCALE:GREGORIAN
METHOD:PUBLISH
X-WR-CALNAME:Flagstaff Symphony Orchestra
X-ORIGINAL-URL:https://www.flagstaffsymphony.org
X-WR-CALDESC:Events for Flagstaff Symphony Orchestra
REFRESH-INTERVAL;VALUE=DURATION:PT1H
X-Robots-Tag:noindex
X-PUBLISHED-TTL:PT1H
BEGIN:VTIMEZONE
TZID:UTC
BEGIN:STANDARD
TZOFFSETFROM:+0000
TZOFFSETTO:+0000
TZNAME:UTC
DTSTART:20240101T000000
END:STANDARD
END:VTIMEZONE
BEGIN:VEVENT
DTSTART;TZID=UTC:20241025T193000
DTEND;TZID=UTC:20241025T213000
DTSTAMP:20260423T174130
CREATED:20240603T172504Z
LAST-MODIFIED:20240909T194616Z
UID:26528-1729884600-1729891800@www.flagstaffsymphony.org
SUMMARY:Marimba Magic and Brahms
DESCRIPTION:The Program:\nMikhail Glinka – Overture to Ruslan and Lyudmila\nEric Ewazen – Concerto for Marimba and String Orchestra\nBrian Hanner\, marimba\nJohannes Brahms – Symphony No. 2 in D major\, op. 73 \nAn unforgettable evening as FSO showcases the talents of its own principal percussionist.\nGlinka’s Overture to Ruslan and Lyudmila sweeps you into the world of Russian folklore.\nEwazen’s beautiful Concerto for Marimba and String Orchestra showcases the marimba’s\nunique voice and Hanner’s artistry. Brahms’; Symphony No. 2 provides a calm counterbalance to\nthe evening’s earlier excitement. \nConcert @7:30pm / Ardrey Auditorium \nPre-concert reception @ 6pm / Kitt Atrium \nSingle tickets AND season concert packs go on sale August 16th!\nGet Tickets!
URL:https://www.flagstaffsymphony.org/event/marimba-magic-and-brahms/
LOCATION:NAU Ardrey Memorial Auditorium\, 1115 S Knoles Dr\, Flagstaff\, AZ\, 86011\, United States
CATEGORIES:Concerts and Events
ATTACH;FMTTYPE=image/png:https://www.flagstaffsymphony.org/wp-content/uploads/2024/06/Marimba-Magic-and-Brahms-2.png
END:VEVENT
END:VCALENDAR